BEGIN:VCALENDAR
VERSION:2.0
PRODID:-//Tukios.com/
BEGIN:VEVENT
UID:5a0e06d8-5b1c-4976-9817-3f89aaff5efe@www.crandallfh.com
DTSTAMP:20260423T204401Z
DTSTART:20260428T180000Z
DTEND:20260428T190000Z
SUMMARY:Graveside Service
DESCRIPTION:
URL:https://www.crandallfh.com/obituaries/susan-hitchcock
LOCATION: 526 County Road  Evanston WY 82930
GEO:41.2824558;-110.9619215
END:VEVENT
END:VCALENDAR