BEGIN:VCALENDAR
VERSION:2.0
PRODID:-//Tukios.com/
BEGIN:VEVENT
UID:132b1bbf-0527-4265-9f72-16ebc28931f1@www.crandallfh.com
DTSTAMP:20260423T204307Z
DTSTART:20260428T170000Z
DTEND:20260428T174500Z
SUMMARY:Viewing
DESCRIPTION:
URL:https://www.crandallfh.com/obituaries/susan-hitchcock
LOCATION: 251 Elm St  Evanston WY 82930
GEO:41.2743239;-110.9619335
END:VEVENT
END:VCALENDAR