BEGIN:VCALENDAR
VERSION:2.0
PRODID:-//Tukios.com/
BEGIN:VEVENT
UID:e7a71e6f-a5ac-4af1-ad1f-291641fddbec@www.crandallfh.com
DTSTAMP:20260423T005104Z
DTSTART:20260425T190000Z
DTEND:20260425T200000Z
SUMMARY:Funeral Service
DESCRIPTION:
URL:https://www.crandallfh.com/obituaries/scott-martin
LOCATION: 800 Uinta St  Evanston WY 82930
GEO:41.2630943;-110.968756
END:VEVENT
END:VCALENDAR