BEGIN:VCALENDAR
VERSION:2.0
PRODID:-//Tukios.com/
BEGIN:VEVENT
UID:20df7b0e-cc12-478c-bfd7-0a7999223964@www.crandallfh.com
DTSTAMP:20260423T005228Z
DTSTART:20260425T170000Z
DTEND:20260425T184500Z
SUMMARY:Visitation
DESCRIPTION:
URL:https://www.crandallfh.com/obituaries/scott-martin
LOCATION: 800 Uinta St  Evanston WY 82930
GEO:41.2630943;-110.968756
END:VEVENT
END:VCALENDAR