BEGIN:VCALENDAR
VERSION:2.0
PRODID:-//Tukios.com/
BEGIN:VEVENT
UID:bdda7852-d913-4223-a22a-e65d8c5cc32d@www.crandallfh.com
DTSTAMP:20260422T010655Z
DTSTART:20260425T170000Z
DTEND:20260425T180000Z
SUMMARY:Funeral Service
DESCRIPTION:
URL:https://www.crandallfh.com/obituaries/ray-broadbent
LOCATION: 632 Twin Ridge Ave  Evanston WY 82930
GEO:41.251821;-110.9744142
END:VEVENT
END:VCALENDAR