BEGIN:VCALENDAR
VERSION:2.0
PRODID:-//Tukios.com/
BEGIN:VEVENT
UID:af308207-c6b6-4068-9de5-18f16ad0b0ef@www.crandallfh.com
DTSTAMP:20260422T010303Z
DTSTART:20260425T153000Z
DTEND:20260425T164500Z
SUMMARY:Visitation
DESCRIPTION:
URL:https://www.crandallfh.com/obituaries/ray-broadbent
LOCATION: 632 Twin Ridge Ave  Evanston WY 82930
GEO:41.251821;-110.9744142
END:VEVENT
END:VCALENDAR