BEGIN:VCALENDAR
VERSION:2.0
PRODID:-//Tukios.com/
BEGIN:VEVENT
UID:3345f245-8b0a-4c08-8143-c6482491c93a@www.crandallfh.com
DTSTAMP:20260422T010721Z
DTSTART:20260425T000000Z
DTEND:20260425T020000Z
SUMMARY:Visitation
DESCRIPTION:
URL:https://www.crandallfh.com/obituaries/ray-broadbent
LOCATION: 632 Twin Ridge Ave  Evanston WY 82930
GEO:41.251821;-110.9744142
END:VEVENT
END:VCALENDAR